BEGIN:VCALENDAR
VERSION:2.0
PRODID:GlueUp
CALSCALE:GREGORIAN
BEGIN:VTIMEZONE
TZID:UTC
BEGIN:STANDARD
DTSTART:19700101T000000
TZOFFSETFROM:+0000
TZOFFSETTO:+0000
TZNAME:UTC
END:STANDARD
END:VTIMEZONE
BEGIN:VEVENT
TZ:+00
ORGANIZER;CN=Miley Yin:MAILTO:miley.yin@austchamshanghai.com
UID:45399-1776758207@https://austchamshanghai.glueup.cn
DTSTAMP:20260421T075647Z
DTSTART:20241126T043000Z
DTEND:20241126T100000Z
SUMMARY:The Future of Retail in China
DESCRIPTION:The Future of Retail in China by AustCham Shanghai\n\nNov 26, 2024 (12:30 PM - 6:00 PM)(GMT+8)\n\nFor more information, click here: https://austchamshanghai.glueup.cn/my/events/45399
LOCATION:PwC Centre - 5F - 2 Link Square Shanghai - No.202 Hu Bin Road - Huangpu District - Shanghai - China 上海 - China
BEGIN:VALARM
TRIGGER:-PT48H
REPEAT:4
DURATION:PT30M
ACTION:DISPLAY
END:VALARM
END:VEVENT
END:VCALENDAR