BEGIN:VCALENDAR
VERSION:2.0
PRODID:GlueUp
CALSCALE:GREGORIAN
BEGIN:VTIMEZONE
TZID:UTC
BEGIN:STANDARD
DTSTART:19700101T000000
TZOFFSETFROM:+0000
TZOFFSETTO:+0000
TZNAME:UTC
END:STANDARD
END:VTIMEZONE
BEGIN:VEVENT
TZ:+00
ORGANIZER;CN=Knox Xiao:MAILTO:knox.xiao@austchamshanghai.com
UID:49724-1776690033@https://austchamshanghai.glueup.cn
DTSTAMP:20260420T130033Z
DTSTART:20260320T020000Z
DTEND:20260320T070000Z
SUMMARY:Suzhou High-Tech Manufacturing Industry Site Visit
DESCRIPTION:Suzhou High-Tech Manufacturing Industry Site Visit by AustCham Shanghai\n\nMar 20, 2026 (10:00 AM - 3:00 PM)(GMT+8)\n\nFor more information, click here: https://austchamshanghai.glueup.cn/my/events/49724
LOCATION:Suzhou Embodied Artificial Intelligence Robotics Innovation Center , No. 12 Qianzhu Road, Wuzhong District, Suzhou, Jiangsu Province - 苏州市具身智能机器人综合创新中心，江苏省苏州市吴中区前珠路12号 苏州 - China
BEGIN:VALARM
TRIGGER:-PT48H
REPEAT:4
DURATION:PT30M
ACTION:DISPLAY
END:VALARM
END:VEVENT
END:VCALENDAR