BEGIN:VCALENDAR
VERSION:2.0
PRODID:GlueUp
CALSCALE:GREGORIAN
BEGIN:VTIMEZONE
TZID:UTC
BEGIN:STANDARD
DTSTART:19700101T000000
TZOFFSETFROM:+0000
TZOFFSETTO:+0000
TZNAME:UTC
END:STANDARD
END:VTIMEZONE
BEGIN:VEVENT
TZ:+00
ORGANIZER;CN=Jessica Chen:MAILTO:jessica.chen@austchamshanghai.com
UID:44455-1776806633@https://austchamshanghai.glueup.cn
DTSTAMP:20260421T212353Z
DTSTART:20240719T003000Z
DTEND:20240719T093000Z
SUMMARY:Manufacturing, Sourcing, and Supply Chain (MSSC) Industry Forum
DESCRIPTION:Manufacturing, Sourcing, and Supply Chain (MSSC) Industry Forum by AustCham Shanghai\n\nJul 19, 2024 (8:30 AM - 5:30 PM)(GMT+8)\n\nFor more information, click here: https://austchamshanghai.glueup.cn/my/events/44455
LOCATION:Australia House by AustCham Shanghai - 80 Pingwu Rd - Changning District - 上海市长宁区平武路80号澳洲之家 Shanghai - China
BEGIN:VALARM
TRIGGER:-PT48H
REPEAT:4
DURATION:PT30M
ACTION:DISPLAY
END:VALARM
END:VEVENT
END:VCALENDAR