BEGIN:VCALENDAR
VERSION:2.0
PRODID:GlueUp
CALSCALE:GREGORIAN
BEGIN:VTIMEZONE
TZID:UTC
BEGIN:STANDARD
DTSTART:19700101T000000
TZOFFSETFROM:+0000
TZOFFSETTO:+0000
TZNAME:UTC
END:STANDARD
END:VTIMEZONE
BEGIN:VEVENT
TZ:+00
ORGANIZER;CN=Knox Xiao:MAILTO:knox.xiao@austchamshanghai.com
UID:50229-1776691312@https://austchamshanghai.glueup.cn
DTSTAMP:20260420T132152Z
DTSTART:20260428T070000Z
DTEND:20260428T093000Z
SUMMARY:Built Environment Forum: Shaping the Future of Urban Planning in Shanghai
DESCRIPTION:Built Environment Forum: Shaping the Future of Urban Planning in Shanghai by AustCham Shanghai\n\nApr 28, 2026 (3:00 PM - 5:30 PM)(GMT+8)\n\nFor more information, click here: https://austchamshanghai.glueup.cn/my/events/50229
LOCATION:Hassell’s Office, Unit 605, 688 Changde Road, Park Avenue Central (PAC), Jing’An District, Shanghai - 上海静安区常德路688号，PAC吉宝静安中心，605室，Hassell办公室 Shanghai - China
BEGIN:VALARM
TRIGGER:-PT48H
REPEAT:4
DURATION:PT30M
ACTION:DISPLAY
END:VALARM
END:VEVENT
END:VCALENDAR